BEGIN:VCALENDAR
VERSION:2.0
PRODID:spatie/icalendar-generator
DESCRIPTION:Events from Local Approach
X-WR-CALDESC:Events from Local Approach
REFRESH-INTERVAL;VALUE=DURATION:PT1440M
X-PUBLISHED-TTL:PT1440M
BEGIN:VTIMEZONE
TZID:Etc/GMT+0
BEGIN:STANDARD
DTSTART:20220930T000000Z
TZOFFSETFROM:+0000
TZOFFSETTO:+0000
END:STANDARD
END:VTIMEZONE
BEGIN:VTIMEZONE
TZID:UTC
BEGIN:STANDARD
DTSTART:20250725T051359Z
TZOFFSETFROM:+0000
TZOFFSETTO:+0000
END:STANDARD
END:VTIMEZONE
BEGIN:VEVENT
UID:14-13
DTSTAMP:20260421T051359Z
SUMMARY:International Conference on Cultural Tourism Advances
LOCATION:KU Leuven   Brussels
ORGANIZER;CN=athina:MAILTO:local_approach@protonmail.com
DTSTART;TZID=Etc/GMT+0:20230627T000000
DTEND;TZID=Etc/GMT+0:20230628T010000
X-ALT-DESC;FMTTYPE=TEXT/HTML:\"The goal of this Conference is to further un
 derstanding of the sustainable development potential of cultural tourism b
 y focusing on successful policy interventions\, new cultural tourism trend
 s\, advances in visitor management systems\, and new business and/or gover
 nance models.\"
CATEGORIES:General
URL;VALUE=URI:https://local-approach.com/mc-events/international-conference
 -on-cultural-tourism-advances/
METHOD:PUBLISH
END:VEVENT
END:VCALENDAR