BEGIN:VCALENDAR
VERSION:2.0
PRODID:spatie/icalendar-generator
DESCRIPTION:Events from Local Approach
X-WR-CALDESC:Events from Local Approach
REFRESH-INTERVAL;VALUE=DURATION:PT1440M
X-PUBLISHED-TTL:PT1440M
BEGIN:VTIMEZONE
TZID:Etc/GMT+0
BEGIN:STANDARD
DTSTART:20230115T090000Z
TZOFFSETFROM:+0000
TZOFFSETTO:+0000
END:STANDARD
END:VTIMEZONE
BEGIN:VTIMEZONE
TZID:UTC
BEGIN:STANDARD
DTSTART:20250725T084922Z
TZOFFSETFROM:+0000
TZOFFSETTO:+0000
END:STANDARD
END:VTIMEZONE
BEGIN:VEVENT
UID:24-21
DTSTAMP:20260421T084922Z
SUMMARY:Museum Ideas 2023 International Conference – 12 October\, London
LOCATION:
ORGANIZER;CN=athina:MAILTO:local_approach@protonmail.com
DTSTART;TZID=Etc/GMT+0:20231012T090000
DTEND;TZID=Etc/GMT+0:20231012T180000
X-ALT-DESC;FMTTYPE=TEXT/HTML:\"Explore the ideas shaping the future of muse
 ums with sessions on co-creation\, community-led collecting\, and rethinki
 ng power and agency in the museum space. Discover how museums can be reima
 gined as co-produced\, people-focussed organisations in a time of growing 
 inequality\, environmental emergency and political crisis.\"
CATEGORIES:General
URL;VALUE=URI:https://local-approach.com/mc-events/museum-ideas-2023-intern
 ational-conference-12-october-london/
METHOD:PUBLISH
END:VEVENT
END:VCALENDAR