BEGIN:VCALENDAR
VERSION:2.0
PRODID:spatie/icalendar-generator
DESCRIPTION:Events from Local Approach
X-WR-CALDESC:Events from Local Approach
REFRESH-INTERVAL;VALUE=DURATION:PT1440M
X-PUBLISHED-TTL:PT1440M
BEGIN:VTIMEZONE
TZID:Etc/GMT+0
BEGIN:STANDARD
DTSTART:20220725T000000Z
TZOFFSETFROM:+0000
TZOFFSETTO:+0000
END:STANDARD
END:VTIMEZONE
BEGIN:VTIMEZONE
TZID:UTC
BEGIN:STANDARD
DTSTART:20250724T091622Z
TZOFFSETFROM:+0000
TZOFFSETTO:+0000
END:STANDARD
END:VTIMEZONE
BEGIN:VEVENT
UID:5-4
DTSTAMP:20260420T091622Z
SUMMARY:3 Innovative solutions for circular cultural tourism
LOCATION:
ORGANIZER;CN=athina:MAILTO:local_approach@protonmail.com
DTSTART;TZID=Etc/GMT+0:20230421T000000
DTEND;TZID=Etc/GMT+0:20230421T010000
X-ALT-DESC;FMTTYPE=TEXT/HTML:Be.CULTOUR Webinar series circular cultural to
 urism Our related article
CATEGORIES:General
URL;VALUE=URI:https://local-approach.com/mc-events/3-innovative-solutions-f
 or-circular-cultural-tourism/
METHOD:PUBLISH
END:VEVENT
END:VCALENDAR