BEGIN:VCALENDAR
VERSION:2.0
PRODID:spatie/icalendar-generator
DESCRIPTION:Events from Local Approach
X-WR-CALDESC:Events from Local Approach
REFRESH-INTERVAL;VALUE=DURATION:PT1440M
X-PUBLISHED-TTL:PT1440M
BEGIN:VTIMEZONE
TZID:Etc/GMT+0
BEGIN:STANDARD
DTSTART:20230504T000000Z
TZOFFSETFROM:+0000
TZOFFSETTO:+0000
END:STANDARD
END:VTIMEZONE
BEGIN:VTIMEZONE
TZID:UTC
BEGIN:STANDARD
DTSTART:20250724T091846Z
TZOFFSETFROM:+0000
TZOFFSETTO:+0000
END:STANDARD
END:VTIMEZONE
BEGIN:VEVENT
UID:51-47
DTSTAMP:20260420T091846Z
SUMMARY:MUSEUMS\, HEALTH &amp;amp\; WELLBEING SUMMIT MuseumNext
LOCATION:
ORGANIZER;CN=athina:MAILTO:local_approach@protonmail.com
DTSTART;TZID=Etc/GMT+0:20240129T000000
DTEND;TZID=Etc/GMT+0:20240130T010000
X-ALT-DESC;FMTTYPE=TEXT/HTML:\"The Museums\, Health and Wellbeing Summit wi
 ll bring together inspiring presentations and actionable advice from those
  leading this work in Museums around the globe.\"
CATEGORIES:General
URL;VALUE=URI:https://local-approach.com/mc-events/museums-health-wellbeing
 -summit-museumnext/
METHOD:PUBLISH
END:VEVENT
END:VCALENDAR