BEGIN:VCALENDAR
VERSION:2.0
PRODID:spatie/icalendar-generator
DESCRIPTION:Events from Local Approach
X-WR-CALDESC:Events from Local Approach
REFRESH-INTERVAL;VALUE=DURATION:PT1440M
X-PUBLISHED-TTL:PT1440M
BEGIN:VTIMEZONE
TZID:Etc/GMT+0
BEGIN:STANDARD
DTSTART:20230617T000000Z
TZOFFSETFROM:+0000
TZOFFSETTO:+0000
END:STANDARD
END:VTIMEZONE
BEGIN:VTIMEZONE
TZID:UTC
BEGIN:STANDARD
DTSTART:20250725T104522Z
TZOFFSETFROM:+0000
TZOFFSETTO:+0000
END:STANDARD
END:VTIMEZONE
BEGIN:VEVENT
UID:59-55
DTSTAMP:20260421T104522Z
SUMMARY:Moving on Up 2024: Making an Impact With Your Career
LOCATION:
ORGANIZER;CN=athina:MAILTO:local_approach@protonmail.com
DTSTART;TZID=Etc/GMT+0;VALUE=DATE:20240313
DTEND;TZID=Etc/GMT+0;VALUE=DATE:20240314
X-ALT-DESC;FMTTYPE=TEXT/HTML:Moving on Up 2024 is the essential conference 
 to give you a motivation boost\, help you identify areas for progress\, de
 velop your networks and discover how you can demonstrate your impact in th
 e sector.
CATEGORIES:General
URL;VALUE=URI:https://local-approach.com/mc-events/moving-on-up-2024-making
 -an-impact-with-your-career/
METHOD:PUBLISH
END:VEVENT
END:VCALENDAR