BEGIN:VCALENDAR
VERSION:2.0
PRODID:spatie/icalendar-generator
DESCRIPTION:Events from Local Approach
X-WR-CALDESC:Events from Local Approach
REFRESH-INTERVAL;VALUE=DURATION:PT1440M
X-PUBLISHED-TTL:PT1440M
BEGIN:VTIMEZONE
TZID:Etc/GMT+0
BEGIN:STANDARD
DTSTART:20230825T000000Z
TZOFFSETFROM:+0000
TZOFFSETTO:+0000
END:STANDARD
END:VTIMEZONE
BEGIN:VTIMEZONE
TZID:UTC
BEGIN:STANDARD
DTSTART:20250724T091703Z
TZOFFSETFROM:+0000
TZOFFSETTO:+0000
END:STANDARD
END:VTIMEZONE
BEGIN:VEVENT
UID:60-56
DTSTAMP:20260420T091703Z
SUMMARY:AI and the Next Wave of Digital Innovation in Museums
LOCATION:
ORGANIZER;CN=athina:MAILTO:local_approach@protonmail.com
DTSTART;TZID=Etc/GMT+0:20240521T000000
DTEND;TZID=Etc/GMT+0:20240521T010000
X-ALT-DESC;FMTTYPE=TEXT/HTML:How will AI help create tomorrow’s museum ex
 periences? Discover emerging examples of AI in museums and use AI to rapid
 ly prototype a new museum experience. We are living through an important m
 oment where advances in artificial intelligence are creating a new era of 
 technological possibility – and risk – in front of our eyes\, in&amp;helli
 p\;
CATEGORIES:General
URL;VALUE=URI:https://local-approach.com/mc-events/ai-and-the-next-wave-of-
 digital-innovation-in-museums/
METHOD:PUBLISH
END:VEVENT
END:VCALENDAR